BEGIN:VCALENDAR
VERSION:2.0
PRODID:-//madisondiocese.org//eCatholic//EN
X-WR-TIMEZONE:LocalTZ
BEGIN:VTIMEZONE
TZID:LocalTZ
X-LIC-LOCATION:LocalTZ
BEGIN:DAYLIGHT
TZOFFSETFROM:-0600
TZOFFSETTO:-0500
TZNAME:LocalTZ
DTSTART:19700308T020000
RRULE:FREQ=YEARLY;BYMONTH=3;BYDAY=2SU
END:DAYLIGHT
BEGIN:STANDARD
TZOFFSETFROM:-0500
TZOFFSETTO:-0600
TZNAME:LocalTZ
DTSTART:19701101T020000
RRULE:FREQ=YEARLY;BYMONTH=11;BYDAY=1SU
END:STANDARD
END:VTIMEZONE
BEGIN:VEVENT
UID:3055686@madisondiocese.org
DTSTAMP:20260421T081540Z
DTSTART:20260505T120000
DTEND:20260505T130000
SUMMARY:GMD: Reach More Training Informational Webinar
DESCRIPTION:Online
END:VEVENT
BEGIN:VEVENT
UID:3055689@madisondiocese.org
DTSTAMP:20260421T081540Z
DTSTART:20260505T183000
DTEND:20260505T193000
SUMMARY:GMD: Reach More Training Informational Webinar
DESCRIPTION:Online
END:VEVENT
END:VCALENDAR
