BEGIN:VCALENDAR
VERSION:2.0
PRODID:-//madisondiocese.org//eCatholic//EN
X-WR-TIMEZONE:LocalTZ
BEGIN:VTIMEZONE
TZID:LocalTZ
X-LIC-LOCATION:LocalTZ
BEGIN:DAYLIGHT
TZOFFSETFROM:-0600
TZOFFSETTO:-0500
TZNAME:LocalTZ
DTSTART:19700308T020000
RRULE:FREQ=YEARLY;BYMONTH=3;BYDAY=2SU
END:DAYLIGHT
BEGIN:STANDARD
TZOFFSETFROM:-0500
TZOFFSETTO:-0600
TZNAME:LocalTZ
DTSTART:19701101T020000
RRULE:FREQ=YEARLY;BYMONTH=11;BYDAY=1SU
END:STANDARD
END:VTIMEZONE
BEGIN:VEVENT
UID:2970306@madisondiocese.org
DTSTAMP:20260423T040340Z
DTSTART;VALUE=DATE:20260606
DTEND;VALUE=DATE:20260608
SUMMARY:Curso Diocesanos de Preparación Matrimonial
DESCRIPTION:Santuario de Schonestatt Heights - Madison
END:VEVENT
END:VCALENDAR
